Workbook

Sheet Hours log
A1: Working hours log
A2: A personal log. Type start, finish and break time each day. The sheet totals each week and flags long weeks.
A4: Date | B4: Start | C4: Finish | D4: Breaks (minutes) | E4: Hours worked | F4: Worked after 7 p.m.? | G4: Week starting | H4: Notes
E5: =IF(OR(B5="",C5=""),"",MAX(0,(C5-B5)*24-N(D5)/60)) | F5: =IF(C5="","",IF(C5>TIME(19,0,0),"Yes","No")) | G5: =IF(A5="","",A5-WEEKDAY(A5,3))
E6: =IF(OR(B6="",C6=""),"",MAX(0,(C6-B6)*24-N(D6)/60)) | F6: =IF(C6="","",IF(C6>TIME(19,0,0),"Yes","No")) | G6: =IF(A6="","",A6-WEEKDAY(A6,3))
E7: =IF(OR(B7="",C7=""),"",MAX(0,(C7-B7)*24-N(D7)/60)) | F7: =IF(C7="","",IF(C7>TIME(19,0,0),"Yes","No")) | G7: =IF(A7="","",A7-WEEKDAY(A7,3))
E8: =IF(OR(B8="",C8=""),"",MAX(0,(C8-B8)*24-N(D8)/60)) | F8: =IF(C8="","",IF(C8>TIME(19,0,0),"Yes","No")) | G8: =IF(A8="","",A8-WEEKDAY(A8,3))
E9: =IF(OR(B9="",C9=""),"",MAX(0,(C9-B9)*24-N(D9)/60)) | F9: =IF(C9="","",IF(C9>TIME(19,0,0),"Yes","No")) | G9: =IF(A9="","",A9-WEEKDAY(A9,3))
E10: =IF(OR(B10="",C10=""),"",MAX(0,(C10-B10)*24-N(D10)/60)) | F10: =IF(C10="","",IF(C10>TIME(19,0,0),"Yes","No")) | G10: =IF(A10="","",A10-WEEKDAY(A10,3))
E11: =IF(OR(B11="",C11=""),"",MAX(0,(C11-B11)*24-N(D11)/60)) | F11: =IF(C11="","",IF(C11>TIME(19,0,0),"Yes","No")) | G11: =IF(A11="","",A11-WEEKDAY(A11,3))
E12: =IF(OR(B12="",C12=""),"",MAX(0,(C12-B12)*24-N(D12)/60)) | F12: =IF(C12="","",IF(C12>TIME(19,0,0),"Yes","No")) | G12: =IF(A12="","",A12-WEEKDAY(A12,3))
E13: =IF(OR(B13="",C13=""),"",MAX(0,(C13-B13)*24-N(D13)/60)) | F13: =IF(C13="","",IF(C13>TIME(19,0,0),"Yes","No")) | G13: =IF(A13="","",A13-WEEKDAY(A13,3))
E14: =IF(OR(B14="",C14=""),"",MAX(0,(C14-B14)*24-N(D14)/60)) | F14: =IF(C14="","",IF(C14>TIME(19,0,0),"Yes","No")) | G14: =IF(A14="","",A14-WEEKDAY(A14,3))
E15: =IF(OR(B15="",C15=""),"",MAX(0,(C15-B15)*24-N(D15)/60)) | F15: =IF(C15="","",IF(C15>TIME(19,0,0),"Yes","No")) | G15: =IF(A15="","",A15-WEEKDAY(A15,3))
E16: =IF(OR(B16="",C16=""),"",MAX(0,(C16-B16)*24-N(D16)/60)) | F16: =IF(C16="","",IF(C16>TIME(19,0,0),"Yes","No")) | G16: =IF(A16="","",A16-WEEKDAY(A16,3))
... E189: =IF(OR(B189="",C189=""),"",MAX(0,(C189-B189)*24-N(D189)/60)) | F189: =IF(C189="","",IF(C189>TIME(19,0,0),"Yes","No")) | G189: =IF(A189="","",A189-WEEKDAY(A189,3))
A191: Free template from employeecapacity.com/free-downloads · Published by thrive at work

Sheet Weekly totals
A1: Weekly totals
A2: Type the Monday of each week in column A.
A4: Week starting (Monday) | B4: Hours worked | C4: Days logged | D4: Late finishes (after 7 p.m.) | E4: Over 48 hours?
B5: =IF(A5="","",SUMIFS('Hours log'!E$5:E$189,'Hours log'!G$5:G$189,A5)) | C5: =IF(A5="","",COUNTIFS('Hours log'!G$5:G$189,A5,'Hours log'!E$5:E$189,">0")) | D5: =IF(A5="","",COUNTIFS('Hours log'!G$5:G$189,A5,'Hours log'!F$5:F$189,"Yes")) | E5: =IF(A5="","",IF(B5>48,"Yes",""))
B6: =IF(A6="","",SUMIFS('Hours log'!E$5:E$189,'Hours log'!G$5:G$189,A6)) | C6: =IF(A6="","",COUNTIFS('Hours log'!G$5:G$189,A6,'Hours log'!E$5:E$189,">0")) | D6: =IF(A6="","",COUNTIFS('Hours log'!G$5:G$189,A6,'Hours log'!F$5:F$189,"Yes")) | E6: =IF(A6="","",IF(B6>48,"Yes",""))
B7: =IF(A7="","",SUMIFS('Hours log'!E$5:E$189,'Hours log'!G$5:G$189,A7)) | C7: =IF(A7="","",COUNTIFS('Hours log'!G$5:G$189,A7,'Hours log'!E$5:E$189,">0")) | D7: =IF(A7="","",COUNTIFS('Hours log'!G$5:G$189,A7,'Hours log'!F$5:F$189,"Yes")) | E7: =IF(A7="","",IF(B7>48,"Yes",""))
B8: =IF(A8="","",SUMIFS('Hours log'!E$5:E$189,'Hours log'!G$5:G$189,A8)) | C8: =IF(A8="","",COUNTIFS('Hours log'!G$5:G$189,A8,'Hours log'!E$5:E$189,">0")) | D8: =IF(A8="","",COUNTIFS('Hours log'!G$5:G$189,A8,'Hours log'!F$5:F$189,"Yes")) | E8: =IF(A8="","",IF(B8>48,"Yes",""))
B9: =IF(A9="","",SUMIFS('Hours log'!E$5:E$189,'Hours log'!G$5:G$189,A9)) | C9: =IF(A9="","",COUNTIFS('Hours log'!G$5:G$189,A9,'Hours log'!E$5:E$189,">0")) | D9: =IF(A9="","",COUNTIFS('Hours log'!G$5:G$189,A9,'Hours log'!F$5:F$189,"Yes")) | E9: =IF(A9="","",IF(B9>48,"Yes",""))
B10: =IF(A10="","",SUMIFS('Hours log'!E$5:E$189,'Hours log'!G$5:G$189,A10)) | C10: =IF(A10="","",COUNTIFS('Hours log'!G$5:G$189,A10,'Hours log'!E$5:E$189,">0")) | D10: =IF(A10="","",COUNTIFS('Hours log'!G$5:G$189,A10,'Hours log'!F$5:F$189,"Yes")) | E10: =IF(A10="","",IF(B10>48,"Yes",""))
B11: =IF(A11="","",SUMIFS('Hours log'!E$5:E$189,'Hours log'!G$5:G$189,A11)) | C11: =IF(A11="","",COUNTIFS('Hours log'!G$5:G$189,A11,'Hours log'!E$5:E$189,">0")) | D11: =IF(A11="","",COUNTIFS('Hours log'!G$5:G$189,A11,'Hours log'!F$5:F$189,"Yes")) | E11: =IF(A11="","",IF(B11>48,"Yes",""))
B12: =IF(A12="","",SUMIFS('Hours log'!E$5:E$189,'Hours log'!G$5:G$189,A12)) | C12: =IF(A12="","",COUNTIFS('Hours log'!G$5:G$189,A12,'Hours log'!E$5:E$189,">0")) | D12: =IF(A12="","",COUNTIFS('Hours log'!G$5:G$189,A12,'Hours log'!F$5:F$189,"Yes")) | E12: =IF(A12="","",IF(B12>48,"Yes",""))
B13: =IF(A13="","",SUMIFS('Hours log'!E$5:E$189,'Hours log'!G$5:G$189,A13)) | C13: =IF(A13="","",COUNTIFS('Hours log'!G$5:G$189,A13,'Hours log'!E$5:E$189,">0")) | D13: =IF(A13="","",COUNTIFS('Hours log'!G$5:G$189,A13,'Hours log'!F$5:F$189,"Yes")) | E13: =IF(A13="","",IF(B13>48,"Yes",""))
B14: =IF(A14="","",SUMIFS('Hours log'!E$5:E$189,'Hours log'!G$5:G$189,A14)) | C14: =IF(A14="","",COUNTIFS('Hours log'!G$5:G$189,A14,'Hours log'!E$5:E$189,">0")) | D14: =IF(A14="","",COUNTIFS('Hours log'!G$5:G$189,A14,'Hours log'!F$5:F$189,"Yes")) | E14: =IF(A14="","",IF(B14>48,"Yes",""))
B15: =IF(A15="","",SUMIFS('Hours log'!E$5:E$189,'Hours log'!G$5:G$189,A15)) | C15: =IF(A15="","",COUNTIFS('Hours log'!G$5:G$189,A15,'Hours log'!E$5:E$189,">0")) | D15: =IF(A15="","",COUNTIFS('Hours log'!G$5:G$189,A15,'Hours log'!F$5:F$189,"Yes")) | E15: =IF(A15="","",IF(B15>48,"Yes",""))
B16: =IF(A16="","",SUMIFS('Hours log'!E$5:E$189,'Hours log'!G$5:G$189,A16)) | C16: =IF(A16="","",COUNTIFS('Hours log'!G$5:G$189,A16,'Hours log'!E$5:E$189,">0")) | D16: =IF(A16="","",COUNTIFS('Hours log'!G$5:G$189,A16,'Hours log'!F$5:F$189,"Yes")) | E16: =IF(A16="","",IF(B16>48,"Yes",""))
... B31: =IF(A31="","",SUMIFS('Hours log'!E$5:E$189,'Hours log'!G$5:G$189,A31)) | C31: =IF(A31="","",COUNTIFS('Hours log'!G$5:G$189,A31,'Hours log'!E$5:E$189,">0")) | D31: =IF(A31="","",COUNTIFS('Hours log'!G$5:G$189,A31,'Hours log'!F$5:F$189,"Yes")) | E31: =IF(A31="","",IF(B31>48,"Yes",""))
A33: Why 48 and 55: the EU Working Time Directive (2003/88/EC) limits average working time to 48 hours a week including overtime. WHO and ILO link working 55 hours or more a week with a 35% higher risk of stroke than working 35 to 40 hours (2021).
A35: Free template from employeecapacity.com/free-downloads · Published by thrive at work
