Workbook

Sheet Meeting log
A1: Meeting load audit
A2: Copy one week of your calendar into the log. The Summary sheet shows how much of the week went to meetings and how much could move.
A4: Day | B4: Start | C4: End | D4: Hours | E4: Meeting | F4: Organizer | G4: People invited | H4: Did it need a meeting? | I4: Before 8 a.m. or after 6 p.m.? | J4: Person-hours
A5: Mon | B5: 0.375 | C5: 0.39583333 | D5: =IF(OR(B5="",C5=""),"",(C5-B5)*24) | E5: Example: team stand-up | G5: 8 | H5: Yes | I5: =IF(B5="","",IF(OR(B5<TIME(8,0,0),C5>TIME(18,0,0)),"Yes","No")) | J5: =IF(D5="","",D5*N(G5))
D6: =IF(OR(B6="",C6=""),"",(C6-B6)*24) | I6: =IF(B6="","",IF(OR(B6<TIME(8,0,0),C6>TIME(18,0,0)),"Yes","No")) | J6: =IF(D6="","",D6*N(G6))
D7: =IF(OR(B7="",C7=""),"",(C7-B7)*24) | I7: =IF(B7="","",IF(OR(B7<TIME(8,0,0),C7>TIME(18,0,0)),"Yes","No")) | J7: =IF(D7="","",D7*N(G7))
D8: =IF(OR(B8="",C8=""),"",(C8-B8)*24) | I8: =IF(B8="","",IF(OR(B8<TIME(8,0,0),C8>TIME(18,0,0)),"Yes","No")) | J8: =IF(D8="","",D8*N(G8))
D9: =IF(OR(B9="",C9=""),"",(C9-B9)*24) | I9: =IF(B9="","",IF(OR(B9<TIME(8,0,0),C9>TIME(18,0,0)),"Yes","No")) | J9: =IF(D9="","",D9*N(G9))
D10: =IF(OR(B10="",C10=""),"",(C10-B10)*24) | I10: =IF(B10="","",IF(OR(B10<TIME(8,0,0),C10>TIME(18,0,0)),"Yes","No")) | J10: =IF(D10="","",D10*N(G10))
D11: =IF(OR(B11="",C11=""),"",(C11-B11)*24) | I11: =IF(B11="","",IF(OR(B11<TIME(8,0,0),C11>TIME(18,0,0)),"Yes","No")) | J11: =IF(D11="","",D11*N(G11))
D12: =IF(OR(B12="",C12=""),"",(C12-B12)*24) | I12: =IF(B12="","",IF(OR(B12<TIME(8,0,0),C12>TIME(18,0,0)),"Yes","No")) | J12: =IF(D12="","",D12*N(G12))
D13: =IF(OR(B13="",C13=""),"",(C13-B13)*24) | I13: =IF(B13="","",IF(OR(B13<TIME(8,0,0),C13>TIME(18,0,0)),"Yes","No")) | J13: =IF(D13="","",D13*N(G13))
D14: =IF(OR(B14="",C14=""),"",(C14-B14)*24) | I14: =IF(B14="","",IF(OR(B14<TIME(8,0,0),C14>TIME(18,0,0)),"Yes","No")) | J14: =IF(D14="","",D14*N(G14))
D15: =IF(OR(B15="",C15=""),"",(C15-B15)*24) | I15: =IF(B15="","",IF(OR(B15<TIME(8,0,0),C15>TIME(18,0,0)),"Yes","No")) | J15: =IF(D15="","",D15*N(G15))
D16: =IF(OR(B16="",C16=""),"",(C16-B16)*24) | I16: =IF(B16="","",IF(OR(B16<TIME(8,0,0),C16>TIME(18,0,0)),"Yes","No")) | J16: =IF(D16="","",D16*N(G16))
D17: =IF(OR(B17="",C17=""),"",(C17-B17)*24) | I17: =IF(B17="","",IF(OR(B17<TIME(8,0,0),C17>TIME(18,0,0)),"Yes","No")) | J17: =IF(D17="","",D17*N(G17))
... D104: =IF(OR(B104="",C104=""),"",(C104-B104)*24) | I104: =IF(B104="","",IF(OR(B104<TIME(8,0,0),C104>TIME(18,0,0)),"Yes","No")) | J104: =IF(D104="","",D104*N(G104))
A107: Free template from employeecapacity.com/free-downloads · Published by thrive at work

Sheet Summary
A1: Summary
A2: Calculated from the meeting log.
A4: Working hours in the week | B4: 40
A5: Meetings logged | B5: =COUNT('Meeting log'!D5:D104)
A6: Hours in meetings | B6: =SUM('Meeting log'!D5:D104)
A7: Share of the week in meetings | B7: =IFERROR(B6/B4,"")
A8: Hours left for other work | B8: =B4-B6
A9: Hours that could be an email, shorter or dropped | B9: =SUMIFS('Meeting log'!D5:D104,'Meeting log'!H5:H104,"<>Yes",'Meeting log'!H5:H104,"<>")
A10: Meetings before 8 a.m. or after 6 p.m. | B10: =COUNTIF('Meeting log'!I5:I104,"Yes")
A11: Person-hours in meetings (hours x people invited) | B11: =SUM('Meeting log'!J5:J104)
A13: Day | B13: Hours in meetings | C13: Meetings
A14: Mon | B14: =SUMIFS('Meeting log'!D5:D104,'Meeting log'!A5:A104,A14) | C14: =COUNTIFS('Meeting log'!A5:A104,A14,'Meeting log'!D5:D104,">0")
A15: Tue | B15: =SUMIFS('Meeting log'!D5:D104,'Meeting log'!A5:A104,A15) | C15: =COUNTIFS('Meeting log'!A5:A104,A15,'Meeting log'!D5:D104,">0")
A16: Wed | B16: =SUMIFS('Meeting log'!D5:D104,'Meeting log'!A5:A104,A16) | C16: =COUNTIFS('Meeting log'!A5:A104,A16,'Meeting log'!D5:D104,">0")
A17: Thu | B17: =SUMIFS('Meeting log'!D5:D104,'Meeting log'!A5:A104,A17) | C17: =COUNTIFS('Meeting log'!A5:A104,A17,'Meeting log'!D5:D104,">0")
A18: Fri | B18: =SUMIFS('Meeting log'!D5:D104,'Meeting log'!A5:A104,A18) | C18: =COUNTIFS('Meeting log'!A5:A104,A18,'Meeting log'!D5:D104,">0")
A19: Sat | B19: =SUMIFS('Meeting log'!D5:D104,'Meeting log'!A5:A104,A19) | C19: =COUNTIFS('Meeting log'!A5:A104,A19,'Meeting log'!D5:D104,">0")
A20: Sun | B20: =SUMIFS('Meeting log'!D5:D104,'Meeting log'!A5:A104,A20) | C20: =COUNTIFS('Meeting log'!A5:A104,A20,'Meeting log'!D5:D104,">0")
A22: For comparison: the average employee spends 57% of work time in meetings, email and chat (Microsoft Work Trend Index, 2023).
A24: Free template from employeecapacity.com/free-downloads · Published by thrive at work
